BEGIN:VCALENDAR
VERSION:2.0
PRODID:-//wp-events-plugin.com//7.2.3.1//EN
TZID:Europe/Berlin
X-WR-TIMEZONE:Europe/Berlin
BEGIN:VEVENT
UID:52@bullemaenner.de
DTSTART;TZID=Europe/Berlin:20261023T200000
DTEND;TZID=Europe/Berlin:20261023T223000
DTSTAMP:20260123T074108Z
URL:https://www.bullemaenner.de/veranstaltungen/gescher-murks/
SUMMARY:Gescher\, Murks
DESCRIPTION:
LOCATION:Schulzentrum\, Borkener Damm 48\, Gescher\, NRW\, 48712 \, Deutsch
 land
X-APPLE-STRUCTURED-LOCATION;VALUE=URI;X-ADDRESS=Borkener Damm 48\, Gescher\
 , NRW\, 48712 \, Deutschland;X-APPLE-RADIUS=100;X-TITLE=Schulzentrum:geo:0
 ,0
END:VEVENT
BEGIN:VTIMEZONE
TZID:Europe/Berlin
X-LIC-LOCATION:Europe/Berlin
BEGIN:DAYLIGHT
DTSTART:20260329T030000
TZOFFSETFROM:+0100
TZOFFSETTO:+0200
TZNAME:CEST
END:DAYLIGHT
END:VTIMEZONE
END:VCALENDAR