BEGIN:VCALENDAR
VERSION:2.0
PRODID:-//wp-events-plugin.com//7.2.3.1//EN
TZID:Europe/Berlin
X-WR-TIMEZONE:Europe/Berlin
BEGIN:VEVENT
UID:54@bullemaenner.de
DTSTART;TZID=Europe/Berlin:20261114T200000
DTEND;TZID=Europe/Berlin:20261114T223000
DTSTAMP:20260123T074700Z
URL:https://www.bullemaenner.de/veranstaltungen/haltern-murks/
SUMMARY:Haltern\, Murks
DESCRIPTION:
LOCATION:Aula Gymnasium\, Holtwicker Straße 3-5\, \, Haltern am See.\, NRW
 \, 45721\, Deutschland
X-APPLE-STRUCTURED-LOCATION;VALUE=URI;X-ADDRESS=Holtwicker Straße 3-5\, \,
  Haltern am See.\, NRW\, 45721\, Deutschland;X-APPLE-RADIUS=100;X-TITLE=Au
 la Gymnasium:geo:0,0
END:VEVENT
BEGIN:VTIMEZONE
TZID:Europe/Berlin
X-LIC-LOCATION:Europe/Berlin
BEGIN:STANDARD
DTSTART:20261025T020000
TZOFFSETFROM:+0200
TZOFFSETTO:+0100
TZNAME:CET
END:STANDARD
END:VTIMEZONE
END:VCALENDAR