BEGIN:VCALENDAR
VERSION:2.0
PRODID:-//wp-events-plugin.com//7.2.3.1//EN
TZID:Europe/Berlin
X-WR-TIMEZONE:Europe/Berlin
BEGIN:VEVENT
UID:50@bullemaenner.de
DTSTART;TZID=Europe/Berlin:20261002T200000
DTEND;TZID=Europe/Berlin:20261002T223000
DTSTAMP:20260123T073541Z
URL:https://www.bullemaenner.de/veranstaltungen/muenster-murks/
SUMMARY:Münster\, Murks
DESCRIPTION:
LOCATION:Kap 8\, Idenbrockplatz 8\, Münster\, NRW\, 48159\, Deutschland
X-APPLE-STRUCTURED-LOCATION;VALUE=URI;X-ADDRESS=Idenbrockplatz 8\, Münster
 \, NRW\, 48159\, Deutschland;X-APPLE-RADIUS=100;X-TITLE=Kap 8:geo:0,0
END:VEVENT
BEGIN:VTIMEZONE
TZID:Europe/Berlin
X-LIC-LOCATION:Europe/Berlin
BEGIN:DAYLIGHT
DTSTART:20260329T030000
TZOFFSETFROM:+0100
TZOFFSETTO:+0200
TZNAME:CEST
END:DAYLIGHT
END:VTIMEZONE
END:VCALENDAR