BEGIN:VCALENDAR
VERSION:2.0
PRODID:-//wp-events-plugin.com//7.2.3.1//EN
TZID:Europe/Berlin
X-WR-TIMEZONE:Europe/Berlin
BEGIN:VEVENT
UID:55@bullemaenner.de
DTSTART;TZID=Europe/Berlin:20260426T180000
DTEND;TZID=Europe/Berlin:20260426T200000
DTSTAMP:20260227T093642Z
URL:https://www.bullemaenner.de/veranstaltungen/raesfeld-murks/
SUMMARY:Raesfeld\, Murks
DESCRIPTION:Bildungswerk Raesfeld\n\nVorverkauf: 02865/10073 oder info@bw-r
 aesfeld.de
LOCATION:Hecheltjens Hof\, Isseltalweg 9\, Hamminkeln-Brünen\, NRW\, 46499
 \, Deutschland
X-APPLE-STRUCTURED-LOCATION;VALUE=URI;X-ADDRESS=Isseltalweg 9\, Hamminkeln-
 Brünen\, NRW\, 46499\, Deutschland;X-APPLE-RADIUS=100;X-TITLE=Hecheltjens
  Hof:geo:0,0
END:VEVENT
BEGIN:VTIMEZONE
TZID:Europe/Berlin
X-LIC-LOCATION:Europe/Berlin
BEGIN:DAYLIGHT
DTSTART:20260329T030000
TZOFFSETFROM:+0100
TZOFFSETTO:+0200
TZNAME:CEST
END:DAYLIGHT
END:VTIMEZONE
END:VCALENDAR