BEGIN:VCALENDAR
VERSION:2.0
PRODID:-//wp-events-plugin.com//7.2.3.1//EN
TZID:Europe/Berlin
X-WR-TIMEZONE:Europe/Berlin
BEGIN:VEVENT
UID:44@bullemaenner.de
DTSTART;TZID=Europe/Berlin:20261016T190000
DTEND;TZID=Europe/Berlin:20261016T213000
DTSTAMP:20260123T073255Z
URL:https://www.bullemaenner.de/veranstaltungen/saerbeck-murks/
SUMMARY:Saerbeck\, Murks ---Nachholtermin---
DESCRIPTION:Leider muss die Veranstaltung krankheitsbedingt verschoben werd
 en!\n\nNachholtermin: 16. Oktober 2026\n\nKarten behalten ihre Gültigkeit
 \n\n&nbsp\;\n\nVVK:\n\nBürgerscheune-Saerbeck\n\nwww.saerbeck.de\n\n\node
 r bei:\nBuch &amp\; mehr\n\nMarktstr. 28\n48369 Saerbeck\n\n\n\n&nbsp\;
LOCATION:Bürgerscheune\, Ferrieres-Straße 12\, Saerbeck\, NRW\, 48369\, D
 eutschland
X-APPLE-STRUCTURED-LOCATION;VALUE=URI;X-ADDRESS=Ferrieres-Straße 12\, Saer
 beck\, NRW\, 48369\, Deutschland;X-APPLE-RADIUS=100;X-TITLE=Bürgerscheune
 :geo:0,0
END:VEVENT
BEGIN:VTIMEZONE
TZID:Europe/Berlin
X-LIC-LOCATION:Europe/Berlin
BEGIN:DAYLIGHT
DTSTART:20260329T030000
TZOFFSETFROM:+0100
TZOFFSETTO:+0200
TZNAME:CEST
END:DAYLIGHT
END:VTIMEZONE
END:VCALENDAR