BEGIN:VCALENDAR
VERSION:2.0
PRODID:-//wp-events-plugin.com//7.2.3.1//EN
TZID:Europe/Berlin
X-WR-TIMEZONE:Europe/Berlin
BEGIN:VEVENT
UID:48@bullemaenner.de
DTSTART;TZID=Europe/Berlin:20261113T200000
DTEND;TZID=Europe/Berlin:20261113T223000
DTSTAMP:20260123T073108Z
URL:https://www.bullemaenner.de/veranstaltungen/schuettorf-murks/
SUMMARY:Schüttorf\, Murks
DESCRIPTION:KunstWerk SF gGmbH\n\nOhner Straße 12\n\n48465 Schüttorf\n\nT
 el.: 05923 9023554\n\ninfo@kunstwerk-schuettorf.de\n\nwww.kunstwerk-schuet
 torf.de
LOCATION:KunstWerk Schüttorf\, Ohner Str. 12\, Schüttorf\, NRW\, 48465\, 
 Deutschland
X-APPLE-STRUCTURED-LOCATION;VALUE=URI;X-ADDRESS=Ohner Str. 12\, Schüttorf\
 , NRW\, 48465\, Deutschland;X-APPLE-RADIUS=100;X-TITLE=KunstWerk Schüttor
 f:geo:0,0
END:VEVENT
BEGIN:VTIMEZONE
TZID:Europe/Berlin
X-LIC-LOCATION:Europe/Berlin
BEGIN:STANDARD
DTSTART:20261025T020000
TZOFFSETFROM:+0200
TZOFFSETTO:+0100
TZNAME:CET
END:STANDARD
END:VTIMEZONE
END:VCALENDAR