BEGIN:VCALENDAR
VERSION:2.0
PRODID:-//wp-events-plugin.com//7.2.3.1//EN
TZID:Europe/Berlin
X-WR-TIMEZONE:Europe/Berlin
BEGIN:VEVENT
UID:51@bullemaenner.de
DTSTART;TZID=Europe/Berlin:20261009T200000
DTEND;TZID=Europe/Berlin:20261009T223000
DTSTAMP:20260123T073757Z
URL:https://www.bullemaenner.de/veranstaltungen/spelle-murks/
SUMMARY:Spelle\, Murks
DESCRIPTION:
LOCATION:Bürgerbegegnungszentrum Wöhlehof\, Pastor-Batsche-Weg 1\, Spelle
 \, NRW\, 48480\, Deutschland
X-APPLE-STRUCTURED-LOCATION;VALUE=URI;X-ADDRESS=Pastor-Batsche-Weg 1\, Spel
 le\, NRW\, 48480\, Deutschland;X-APPLE-RADIUS=100;X-TITLE=Bürgerbegegnung
 szentrum Wöhlehof:geo:0,0
END:VEVENT
BEGIN:VTIMEZONE
TZID:Europe/Berlin
X-LIC-LOCATION:Europe/Berlin
BEGIN:DAYLIGHT
DTSTART:20260329T030000
TZOFFSETFROM:+0100
TZOFFSETTO:+0200
TZNAME:CEST
END:DAYLIGHT
END:VTIMEZONE
END:VCALENDAR